BEGIN:VCALENDAR
VERSION:2.0
PRODID:-//Tukios.com/
BEGIN:VEVENT
UID:c4132a45-f60c-4036-ba28-844cca084c4c@www.rosehillfh.com
DTSTAMP:20260421T025632Z
DTSTART:20260424T140000Z
DTEND:20260424T144500Z
SUMMARY:Viewing
DESCRIPTION:
URL:https://www.rosehillfh.com/obituaries/catherine-dixon-morrisey
LOCATION: 472 Wells Town Road  Rose Hill NC 28458
GEO:34.8021174;-78.0358143
END:VEVENT
END:VCALENDAR