BEGIN:VCALENDAR
VERSION:2.0
PRODID:-//Tukios.com/
BEGIN:VEVENT
UID:4d504659-60d1-48a5-9284-72ecefa0fcc9@www.rosehillfh.com
DTSTAMP:20260421T030006Z
DTSTART:20260424T150000Z
DTEND:20260424T160000Z
SUMMARY:Funeral Service
DESCRIPTION:
URL:https://www.rosehillfh.com/obituaries/catherine-dixon-morrisey
LOCATION: 472 Wells Town Road  Rose Hill NC 28458
GEO:34.8021174;-78.0358143
END:VEVENT
END:VCALENDAR