BEGIN:VCALENDAR
VERSION:2.0
PRODID:-//Tukios.com/
BEGIN:VEVENT
UID:3c3a8eca-27e5-4b78-9728-10542b279ee6@www.rosehillfh.com
DTSTAMP:20260421T025442Z
DTSTART:20260424T170000Z
DTEND:20260424T180000Z
SUMMARY:Burial
DESCRIPTION:
URL:https://www.rosehillfh.com/obituaries/catherine-dixon-morrisey
LOCATION: 1462 S NC 903 Hwy  Magnolia NC 28453
GEO:34.8965563;-78.0541545
END:VEVENT
END:VCALENDAR