BEGIN:VCALENDAR
VERSION:2.0
PRODID:-//Tukios.com/
BEGIN:VEVENT
UID:8cfe464e-23da-4e51-8e25-4236e2c66652@www.rosehillfh.com
DTSTAMP:20260422T233259Z
DTSTART:20260502T190000Z
DTEND:20260502T210000Z
SUMMARY:Funeral Service
DESCRIPTION:
URL:https://www.rosehillfh.com/obituaries/jose-montante-martinez
LOCATION: 472 Wells Town Road  Rose Hill NC 28458
GEO:34.8021174;-78.0358143
END:VEVENT
END:VCALENDAR