BEGIN:VCALENDAR
VERSION:2.0
PRODID:-//Tukios.com/
BEGIN:VEVENT
UID:eecf87e2-028d-46c8-b36a-1a78bcaf655a@www.rosehillfh.com
DTSTAMP:20260423T023316Z
DTSTART:20260501T140000Z
DTEND:20260501T144500Z
SUMMARY:Viewing
DESCRIPTION:
URL:https://www.rosehillfh.com/obituaries/pinkey-mcarthur-copper
LOCATION: 472 Wells Town Road  Rose Hill NC 28458
GEO:34.8021174;-78.0358143
END:VEVENT
END:VCALENDAR