BEGIN:VCALENDAR
VERSION:2.0
PRODID:-//Tukios.com/
BEGIN:VEVENT
UID:53040b84-1b44-4812-872a-b74142657c42@www.rosehillfh.com
DTSTAMP:20260423T023842Z
DTSTART:20260501T170000Z
DTEND:20260501T180000Z
SUMMARY:Burial
DESCRIPTION:
URL:https://www.rosehillfh.com/obituaries/pinkey-mcarthur-copper
LOCATION: NC Hwy 50  Magnolia NC 28453
GEO:35.1709627;-78.1826256
END:VEVENT
END:VCALENDAR